BEGIN:VCALENDAR
PRODID:-//eluceo/ical//2.0/EN
VERSION:2.0
CALSCALE:GREGORIAN
BEGIN:VEVENT
UID:2d575918b23d8d64136396ce9fd007fd
DTSTAMP:20260421T101046Z
SUMMARY:TT Hiking Cup on the Pitztal Glacier with music
DESCRIPTION:On 24 AUG\, the TT Hiking Cup stops off at the Pitztal Glacier.
  Two different routes for families and experts await you. The musical fami
 ly party at Restaurant Kristall rounds off the hiking day perfectly.
DTSTART;VALUE=DATE:20250824
DTEND;VALUE=DATE:20250825
LOCATION:Pitztaler Gletscher
END:VEVENT
END:VCALENDAR
