BEGIN:VCALENDAR
PRODID:-//eluceo/ical//2.0/EN
VERSION:2.0
CALSCALE:GREGORIAN
BEGIN:VEVENT
UID:06e9bfb52d53d8570ca7c4f73d081d0c
DTSTAMP:20260420T161438Z
SUMMARY:Musik im Café 3440 // Barbara Plattner // Harfe
DESCRIPTION:Im Winter treffen am Pitztaler Gletscher- im Cafe 3440- Natur u
 nd Kultur aufeinander. Egal\, ob du gerne Skifahren und Après-Ski kombini
 erst oder ob du nur Lust auf Musik mit Aussicht auf eine faszinierenden Gl
 etscherlandschaft hast – am Pitztaler Gletscher findest du die Musik-Eve
 nts nach deinem Geschmack!
DTSTART;VALUE=DATE:20260425
DTEND;VALUE=DATE:20260426
LOCATION:Café 3440
END:VEVENT
END:VCALENDAR
