BEGIN:VCALENDAR
PRODID:-//eluceo/ical//2.0/EN
VERSION:2.0
CALSCALE:GREGORIAN
BEGIN:VEVENT
UID:f6d1de3a2c03d888b6447c98a0cc06ab
DTSTAMP:20260422T095021Z
SUMMARY:Pitztal Testival by Sport Förg
DESCRIPTION:Vom 7. bis 09. November 2025 erwartet Sie ein unvergessliches W
 ochenende voller Highlights!
URL:https://pitztaler-gletscher.ltibooking.com/categories/events
DTSTART;VALUE=DATE:20251107
DTEND;VALUE=DATE:20251110
LOCATION:Pitztaler Gletscher
END:VEVENT
END:VCALENDAR
