BEGIN:VCALENDAR
PRODID:-//eluceo/ical//2.0/EN
VERSION:2.0
CALSCALE:GREGORIAN
BEGIN:VEVENT
UID:bf21858dc86cde2450ef0181b3274ff8
DTSTAMP:20260420T161202Z
SUMMARY:Après-Ski-Party am Gletscher
DESCRIPTION:Après-Ski-Party mit DJ Bulle Ulle auf unserer Sonnenterrasse b
 eim Restaurant Kristall!\nFreu dich auf coole Beats und ausgelassene Stimm
 ung von 14:30 – 18:30 Uhr!\nEgal ob mit Buspackage oder Privat - Sei dab
 ei und verbringe einen unvergesslichen Tag in traumhafter Bergkulisse!
URL:https://www.schneebeben.de/skigebiete/pitztaler-gletscher/
DTSTART;VALUE=DATE:20260425
DTEND;VALUE=DATE:20260426
LOCATION:
END:VEVENT
END:VCALENDAR
