BEGIN:VCALENDAR
PRODID:-//eluceo/ical//2.0/EN
VERSION:2.0
CALSCALE:GREGORIAN
BEGIN:VEVENT
UID:f646ec53b706bd0e48cc0c101ba37a6c
DTSTAMP:20260420T081605Z
SUMMARY:Your breakfast in the mountain summer 2026
DESCRIPTION:It's breakfast time again! From 04 JUL to 15 OKT 2026 (on THU a
 nd SAT) you can enjoy a rich regionally breakfast buffet at 3\,440 metres 
 above sea level. Secure your place at Tyrol's highest breakfast table now!
URL:https://www.pitztaler-gletscher.at/breakfast
DTSTART;VALUE=DATE:20260704
DTEND;VALUE=DATE:20261016
LOCATION:Café 3440
END:VEVENT
END:VCALENDAR
